BEGIN:VCALENDAR
VERSION:2.0
PRODID:-//San Bernardino Countywide - ECPv4.6.14.1//NONSGML v1.0//EN
CALSCALE:GREGORIAN
METHOD:PUBLISH
X-WR-CALNAME:San Bernardino Countywide
X-ORIGINAL-URL:https://sbcwob.sbcounty.gov
X-WR-CALDESC:Events for San Bernardino Countywide
BEGIN:VEVENT
DTSTART;TZID=America/Los_Angeles:20180910T130000
DTEND;TZID=America/Los_Angeles:20180910T170000
DTSTAMP:20260421T144709
CREATED:20180509T143451Z
LAST-MODIFIED:20180905T200336Z
UID:2901-1536584400-1536598800@sbcwob.sbcounty.gov
SUMMARY:General Meeting [CANCELLED]
DESCRIPTION:Meeting has been cancelled. Click here to  view cancellation notice. \n
URL:https://sbcwob.sbcounty.gov/event2/countywide-oversight-board-general-meeting-2/
LOCATION:385 N. Arrowhead Avenue\, First Floor\, San Bernardino\, CA\, 92415\, United States
CATEGORIES:Countywide Oversight Board Meeting
ATTACH;FMTTYPE=image/jpeg:https://sbcwob.sbcounty.gov/wp-content/uploads/2018/05/SBGovCenter.jpg
END:VEVENT
END:VCALENDAR